BEGIN:VCALENDAR
VERSION:2.0
PRODID:-//Lacassagne - ECPv6.15.20//NONSGML v1.0//EN
CALSCALE:GREGORIAN
METHOD:PUBLISH
X-WR-CALNAME:Lacassagne
X-ORIGINAL-URL:https://www.centreantoinelacassagne.org
X-WR-CALDESC:Évènements pour Lacassagne
REFRESH-INTERVAL;VALUE=DURATION:PT1H
X-Robots-Tag:noindex
X-PUBLISHED-TTL:PT1H
BEGIN:VTIMEZONE
TZID:Europe/Paris
BEGIN:DAYLIGHT
TZOFFSETFROM:+0100
TZOFFSETTO:+0200
TZNAME:CEST
DTSTART:20240331T010000
END:DAYLIGHT
BEGIN:STANDARD
TZOFFSETFROM:+0200
TZOFFSETTO:+0100
TZNAME:CET
DTSTART:20241027T010000
END:STANDARD
BEGIN:DAYLIGHT
TZOFFSETFROM:+0100
TZOFFSETTO:+0200
TZNAME:CEST
DTSTART:20250330T010000
END:DAYLIGHT
BEGIN:STANDARD
TZOFFSETFROM:+0200
TZOFFSETTO:+0100
TZNAME:CET
DTSTART:20251026T010000
END:STANDARD
BEGIN:DAYLIGHT
TZOFFSETFROM:+0100
TZOFFSETTO:+0200
TZNAME:CEST
DTSTART:20260329T010000
END:DAYLIGHT
BEGIN:STANDARD
TZOFFSETFROM:+0200
TZOFFSETTO:+0100
TZNAME:CET
DTSTART:20261025T010000
END:STANDARD
END:VTIMEZONE
BEGIN:VEVENT
DTSTART;TZID=Europe/Paris:20250204T190000
DTEND;TZID=Europe/Paris:20250204T220000
DTSTAMP:20260425T191112
CREATED:20250124T105657Z
LAST-MODIFIED:20250124T110324Z
UID:10996-1738695600-1738706400@www.centreantoinelacassagne.org
SUMMARY:Journée internationale de lutte contre le cancer : lancement de "Jusqu'à ce que l'amour nous répare"
DESCRIPTION:Journée internationale de lutte contre le cancer :\nsoirée de lancement de « Jusqu’à ce que l’amour nous répare »\n\nMardi 4 février à 19h00\nSalle Rossini de la mairie du 9e (6\, rue Drouot) Paris\n\n\n\n\nDans le cadre de la journée internationale de lutte contre le cancer\, Emma Scali lance une série de podcasts qui à pour objectif de sensibiliser le public aux enjeux liés au dépistage\, au combat contre la maladie\, au deuil et à la résilience\, et de montrer comment l’amour peut être un puissant vecteur de guérison\, même dans les épreuves les plus difficiles. Avec des épisodes courts et accessibles\, « Jusqu’à ce que l’amour nous répare » s’adresse à tous ceux qui cherchent du réconfort et de l’inspiration dans leurs propres parcours. \nA cette occasion vous êtes invités à l’événement-spectacle de présentation de cette aventure qui va durer plus d’un an… et à laquelle participent une quarantaine d’artistes de renom parmi lesquels : Amandine Bourgeois\, Thomas Dutronc\, Victoria Bedos\, Elie Chouraqui\, Bruno Putzulu\, Stephanie Bataille\, Frédéric Lenoir\, Léa Wiazemsky\, Vincent Avanzi\, Cyrielle Sarah-Cohen\, Eric Bastien\, Nicolas Rafal\, Romane Serda\, Joseph Agostini\, Philippe Giangreco… \n\n\n\n\n\n\n Programme de la soirée\n\nPremière partie : Spectacle\nDiffusion du 1er épisode du Podcast\, suivie\, sur scène :\n– de la performance poétique de Vincent Avanzi\n– puis de l’interprétation par Ella Minatchy de la chanson « Rallumer les étoiles » \nDeuxième partie : Présentation du projet\n– Genèse et pitch du podcast par Emma Scali.\n– Vidéo de présentation du Casting : Thomas Dutronc\, Elie Chouraqui\, Victoria Bedos\, Bruno Putzulu…\n– Présentation par Naïche Caudron et Mathieu Bourreau de l’intervention de l’IA dans la réalisation du projet.\n– Présentation du partenariat avec le Centre Antoine Lacassagne du réseau Unicancer et du projet de recherche « Target »\, visant l’amélioration diagnostique et thérapeutique des cancers à mauvais pronostics.\n– Intervention du Professeur Barranger\, directeur du Centre Antoine Lacassagne.\n– Présentation du budget prévisionnel & des partenaires par Sébastien Carles\n– Making off des premiers enregistrements. \nConcert d’Amandine Bourgeois\n– Je veux rêver\n– Mille et une Nuit\n– Amour Amor\n– Kiss & Fly en duo avec Ella Minatchy \nTemps d’échanges avec les artistes \n\n\n\n\n\n\n\n\n\n\n\n \nRéservations
URL:https://www.centreantoinelacassagne.org/event/journee-internationale-de-lutte-contre-le-cancer-lancement-de-jusqua-ce-que-lamour-nous-repare/
LOCATION:Mairie du 9ème arrondissement\, 6 rue Drouot\, Paris\, 75009
CATEGORIES:générosité
ATTACH;FMTTYPE=image/jpeg:https://www.centreantoinelacassagne.org/wp-content/uploads/2025/01/image_processing20250123-26360-s9eb3t.jpg
END:VEVENT
END:VCALENDAR