BEGIN:VCALENDAR
VERSION:2.0
PRODID:-//Lacassagne - ECPv6.15.20//NONSGML v1.0//EN
CALSCALE:GREGORIAN
METHOD:PUBLISH
X-ORIGINAL-URL:https://www.centreantoinelacassagne.org
X-WR-CALDESC:Évènements pour Lacassagne
REFRESH-INTERVAL;VALUE=DURATION:PT1H
X-Robots-Tag:noindex
X-PUBLISHED-TTL:PT1H
BEGIN:VTIMEZONE
TZID:Europe/Paris
BEGIN:DAYLIGHT
TZOFFSETFROM:+0100
TZOFFSETTO:+0200
TZNAME:CEST
DTSTART:20240331T010000
END:DAYLIGHT
BEGIN:STANDARD
TZOFFSETFROM:+0200
TZOFFSETTO:+0100
TZNAME:CET
DTSTART:20241027T010000
END:STANDARD
BEGIN:DAYLIGHT
TZOFFSETFROM:+0100
TZOFFSETTO:+0200
TZNAME:CEST
DTSTART:20250330T010000
END:DAYLIGHT
BEGIN:STANDARD
TZOFFSETFROM:+0200
TZOFFSETTO:+0100
TZNAME:CET
DTSTART:20251026T010000
END:STANDARD
BEGIN:DAYLIGHT
TZOFFSETFROM:+0100
TZOFFSETTO:+0200
TZNAME:CEST
DTSTART:20260329T010000
END:DAYLIGHT
BEGIN:STANDARD
TZOFFSETFROM:+0200
TZOFFSETTO:+0100
TZNAME:CET
DTSTART:20261025T010000
END:STANDARD
END:VTIMEZONE
BEGIN:VEVENT
DTSTART;TZID=Europe/Paris:20250325T183000
DTEND;TZID=Europe/Paris:20250325T233000
DTSTAMP:20260425T173304
CREATED:20250310T104744Z
LAST-MODIFIED:20250310T132802Z
UID:11566-1742927400-1742945400@www.centreantoinelacassagne.org
SUMMARY:3ème Gala de charité Centre Antoine Lacassagne
DESCRIPTION: 3ème Gala de charité du Centre Antoine Lacassagne \n\n\n 25 mars 2025\n Palais Sarde\, Nice\n\n\n\nPour sa 3ème édition\, notre gala promet une soirée exceptionnelle :\n Un diner gastronomique préparé par 8 chefs étoilés et Meilleurs Ouvriers de France\, orchestré par Patrick Raingeard\n Une vente aux enchères caritative avec des lots uniques\n Financement du projet « TARGET » qui vise à développer la biopsie liquide\, une avancée révolutionnaire pour mieux détecter et traiter les cancers métastatiques résistants.\n\n\n\nRejoignez-nous pour une soirée inoubliable au service de la recherche contre le cancer.\n\n\n\n Réservez votre place https://cutt.ly/yrroaXc7\n\n\n\nEnsemble\, faisons gagner la vie !
URL:https://www.centreantoinelacassagne.org/event/3eme-gala-de-charite-centre-antoine-lacassagne/
CATEGORIES:générosité
ATTACH;FMTTYPE=image/jpeg:https://www.centreantoinelacassagne.org/wp-content/uploads/2025/03/SAVETHEDATE_DinerDeChariteAntoineLacassagne_2025-scaled.jpg
END:VEVENT
END:VCALENDAR